BEGIN:VCALENDAR
VERSION:2.0
PRODID:-//ChamberMaster//Event Calendar 2.0//EN
METHOD:PUBLISH
X-PUBLISHED-TTL:P3D
REFRESH-INTERVAL:P3D
CALSCALE:GREGORIAN
BEGIN:VEVENT
DTSTART:20231108T150000Z
DTEND:20231108T160000Z
X-MICROSOFT-CDO-ALLDAYEVENT:FALSE
SUMMARY:Veterans Day Celebration
DESCRIPTION:Veterans Day Celebration\n\nDate: Wednesday\, November 8th\n\nTime: 10:00 AM   11:00 AM\n\nCost: FREE\n\nLocation: Zebulon Town Hall (Rain Site Zebulon Community Center)\n\nRSVP Required By: Friday\, October 27th\n\nRSVP Options: Register online(Recdesk)\, call (919) 823-0432 or email Hope Mitchell at hmitchell@townofzebulon.org\n\nThe Town of Zebulon wishes to express gratitude to our Veterans. We invite you to join us for a ceremony on the front lawn of the Zebulon Town Hall.
X-ALT-DESC;FMTTYPE=text/html:<span style="font-family:open sans\,helvetica neue\,helvetica\,arial\,sans-serif\; font-size:14px">Veterans Day Celebration</span><br />\n<span style="font-family:open sans\,helvetica neue\,helvetica\,arial\,sans-serif\; font-size:14px">Date: Wednesday\, November 8th</span><br />\n<span style="font-family:open sans\,helvetica neue\,helvetica\,arial\,sans-serif\; font-size:14px">Time: 10:00 AM &ndash\; 11:00 AM</span><br />\n<span style="font-family:open sans\,helvetica neue\,helvetica\,arial\,sans-serif\; font-size:14px">Cost: FREE</span><br />\n<span style="font-family:open sans\,helvetica neue\,helvetica\,arial\,sans-serif\; font-size:14px">Location: Zebulon Town Hall (Rain Site Zebulon Community Center)</span><br />\n<span style="font-family:open sans\,helvetica neue\,helvetica\,arial\,sans-serif\; font-size:14px">RSVP Required By: Friday\, October 27th</span><br />\n<span style="font-family:open sans\,helvetica neue\,helvetica\,arial\,sans-serif\; font-size:14px">RSVP Options: Register online(Recdesk)\, call (919) 823-0432 or email Hope Mitchell at hmitchell@townofzebulon.org</span><br />\n<span style="font-family:open sans\,helvetica neue\,helvetica\,arial\,sans-serif\; font-size:14px">The Town of Zebulon wishes to express gratitude to our Veterans. We invite you to join us for a ceremony on the front lawn of the Zebulon Town Hall.</span>
LOCATION:Zebulon Town Hall (Rain Site Zebulon Community Center)
UID:e.1168.7666
SEQUENCE:3
DTSTAMP:20260422T035337Z
URL:https://business.zebulonchamber.org/events/details/veterans-day-celebration-11-08-2023-7666
END:VEVENT

END:VCALENDAR
