BEGIN:VCALENDAR
VERSION:2.0
PRODID:-//ChamberMaster//Event Calendar 2.0//EN
METHOD:PUBLISH
X-PUBLISHED-TTL:P3D
REFRESH-INTERVAL:P3D
CALSCALE:GREGORIAN
BEGIN:VEVENT
DTSTART:20221109T150000Z
DTEND:20221109T160000Z
X-MICROSOFT-CDO-ALLDAYEVENT:FALSE
SUMMARY:Veterans Day Celebration
DESCRIPTION:Veterans Day Celebration\n\nWednesday\, November 9\n\n10:00 AM   11:00 AM\n\nFREE\n\nZebulon Town Hall (Rain Site Zebulon Community Center)\n\nRSVP Required By: Friday\, October 28th\n\nRSVP Options: Register online\, call (919) 823-0432 or email Amy Hayden at ahayden@townofzebulon.org\n\nSponsored By: Town of Zebulon and Zebulon Rotary Club\n\nThe Town of Zebulon wishes to express gratitude to our Veterans. We invite you to join us for a ceremony on the front lawn of the Zebulon Town Hall. A grab and go breakfast will be provided.
X-ALT-DESC;FMTTYPE=text/html:<span style="color:#000000"><span style="font-family:open sans\,helvetica neue\,helvetica\,arial\,sans-serif\; font-size:14px">Veterans Day Celebration</span><br />\n<span style="font-family:open sans\,helvetica neue\,helvetica\,arial\,sans-serif\; font-size:14px">Wednesday\, November 9</span><br />\n<span style="font-family:open sans\,helvetica neue\,helvetica\,arial\,sans-serif\; font-size:14px">10:00 AM &ndash\; 11:00 AM</span><br />\n<span style="font-family:open sans\,helvetica neue\,helvetica\,arial\,sans-serif\; font-size:14px">FREE</span><br />\n<span style="font-family:open sans\,helvetica neue\,helvetica\,arial\,sans-serif\; font-size:14px">Zebulon Town Hall (Rain Site Zebulon Community Center)</span><br />\n<span style="font-family:open sans\,helvetica neue\,helvetica\,arial\,sans-serif\; font-size:14px">RSVP Required By: Friday\, October 28th</span><br />\n<span style="font-family:open sans\,helvetica neue\,helvetica\,arial\,sans-serif\; font-size:14px">RSVP Options: Register online\, call (919) 823-0432 or email Amy Hayden at ahayden@townofzebulon.org</span><br />\n<span style="font-family:open sans\,helvetica neue\,helvetica\,arial\,sans-serif\; font-size:14px">Sponsored By: Town of Zebulon and Zebulon Rotary Club</span><br />\n<span style="font-family:open sans\,helvetica neue\,helvetica\,arial\,sans-serif\; font-size:14px">The Town of Zebulon wishes to express gratitude to our Veterans. We invite you to join us for a ceremony on the front lawn of the Zebulon Town Hall. A grab and go breakfast will be provided.</span></span>
LOCATION:Zebulon Town Hall (Rain Site Zebulon Community Center)
UID:e.1168.7140
SEQUENCE:3
DTSTAMP:20260422T194929Z
URL:https://business.zebulonchamber.org/events/details/veterans-day-celebration-11-09-2022-7140
END:VEVENT

END:VCALENDAR
