BEGIN:VCALENDAR
VERSION:2.0
PRODID:-//ChamberMaster//Event Calendar 2.0//EN
METHOD:PUBLISH
X-PUBLISHED-TTL:P3D
REFRESH-INTERVAL:P3D
CALSCALE:GREGORIAN
BEGIN:VEVENT
DTSTART:20240504T140000Z
DTEND:20240504T160500Z
X-MICROSOFT-CDO-ALLDAYEVENT:FALSE
SUMMARY:Visit Historic Perry Mill Pond
DESCRIPTION:VISIT PERRY MILL POND - Learn about the 250 year history of Perry Mill pond and its survival and changes through centuries of hurricanes and economic change. This tour hour event will include a visit inside a re-created mill house and a talk about the site\, and its 90 year ownership by the Perry family. Although our event ends at noon\, paying guests can stay for the day to enjoy the beauty of the site. Bring your own chairs. \n\nRain date for this event is Sunday May 5 at noon.
X-ALT-DESC;FMTTYPE=text/html:VISIT PERRY MILL POND - Learn about the 250 year history of Perry Mill pond and its survival and changes through centuries of hurricanes and economic change. This tour hour event will include a visit inside a re-created mill house and a talk about the site\, and its 90 year ownership by the Perry family. Although our event ends at noon\, paying guests can stay for the day to enjoy the beauty of the site. Bring your own chairs.&nbsp\;<br />\nRain date for this event is Sunday May 5 at noon.
LOCATION:Perry Mill Pond\, 5425 Pearces Road\, Franklin County\, Zebulon\, NC 27597
UID:e.1168.7861
SEQUENCE:3
DTSTAMP:20260421T184623Z
URL:https://business.zebulonchamber.org/events/details/visit-historic-perry-mill-pond-7861
END:VEVENT

END:VCALENDAR
