BEGIN:VCALENDAR
VERSION:2.0
PRODID:-//ChamberMaster//Event Calendar 2.0//EN
METHOD:PUBLISH
X-PUBLISHED-TTL:P3D
REFRESH-INTERVAL:P3D
CALSCALE:GREGORIAN
BEGIN:VEVENT
DTSTART:20240125T193000Z
DTEND:20240125T203000Z
X-MICROSOFT-CDO-ALLDAYEVENT:FALSE
SUMMARY:Wake County Property Tax Small Business Info Session
DESCRIPTION:Wake County Property Tax Information Session - A Must-Know for Businesses\n\n \n\nWe are excited to invite you to an informative event that every business in Wake County should be a part of! Join us for a special session on "What Every Business Needs to Know about Wake County Property Taxes\," cohosted by the Wake County Tax Administration and the Zebulon Chamber.\n\n \n\nDate: Thursday\, January 25\, 2024  \n\nTime: 2:30 PM to 3:30 PM  \n\nLocation: Online (Link will be provided upon registration)\n\n \n\nIn collaboration with the Wake County Tax Administration\, this event aims to provide businesses with essential insights into the intricacies of property taxes in the county. Understanding the tax landscape is crucial for businesses to make informed decisions and thrive in the local environment.\n\n \n\nKey Topics to be Covered:\n\n1. Overview of Wake County Property Tax Structure\n\n2. How to File and Request an Extension\n\n3. What Should a Business List\n\n4. Q&A Session with Wake County Tax Administration Representatives\n\n \n\nThis event offers a unique opportunity to engage with experts from the Wake County Tax Administration and gain clarity on property tax matters that directly affect your business.\n\n \n\nRegister Today!\n\n\n\nOnce registered\, you will receive a confirmation email with the event details and a link to join the online session.\n\n \n\nDon't miss out on this chance to equip your business with the knowledge needed to navigate Wake County's property tax landscape effectively.
X-ALT-DESC;FMTTYPE=text/html:<div><strong><span style="font-size:16px\;"><span style="font-family:arial\;">Wake County Property Tax Information Session&nbsp\;- A Must-Know for Businesses</span></span></strong></div>\n\n<div>&nbsp\;</div>\n\n<div>We are excited to invite you to an informative event that every business in Wake County should be a part of! Join us for a special session on &quot\;What Every Business Needs to Know about Wake County Property Taxes\,&quot\; cohosted by the Wake County Tax Administration and the Zebulon Chamber.</div>\n\n<div>&nbsp\;</div>\n\n<div>Date: Thursday\, January 25\, 2024&nbsp\;&nbsp\;</div>\n\n<div>Time:&nbsp\;2:30 PM to 3:30 PM&nbsp\;&nbsp\;</div>\n\n<div>Location:&nbsp\;Online (Link will be provided upon registration)</div>\n\n<div>&nbsp\;</div>\n\n<div>In collaboration with the Wake County Tax Administration\, this event aims to provide businesses with essential insights into the intricacies of property taxes in the county. Understanding the tax landscape is crucial for businesses to make informed decisions and thrive in the local environment.</div>\n\n<div>&nbsp\;</div>\n\n<div>Key Topics to be Covered:</div>\n\n<div>1. Overview of Wake County Property Tax Structure</div>\n\n<div>2. How to File and Request&nbsp\;an Extension</div>\n\n<div>3. What Should a Business List</div>\n\n<div>4. Q&amp\;A Session with Wake County Tax Administration Representatives</div>\n\n<div>&nbsp\;</div>\n\n<div>This event offers a unique opportunity to engage with experts from the Wake County Tax Administration and gain clarity on property tax matters that directly affect your business.</div>\n\n<div>&nbsp\;</div>\n\n<div>Register Today!</div>\n\n<div><br />\nOnce registered\, you will receive a confirmation email with the event details and a link to join the online session.</div>\n\n<div>&nbsp\;</div>\n\n<div>Don&#39\;t miss out on this chance to equip your business with the knowledge needed to navigate Wake County&#39\;s property tax landscape effectively.</div>\n\n<div>&nbsp\;</div>\n\n<div>&nbsp\;</div>\n
LOCATION:The is a live\, online session.
UID:e.1168.7837
SEQUENCE:3
DTSTAMP:20260421T191147Z
URL:https://business.zebulonchamber.org/events/details/wake-county-property-tax-small-business-info-session-7837
END:VEVENT

END:VCALENDAR
