BEGIN:VCALENDAR
VERSION:2.0
PRODID:-//ChamberMaster//Event Calendar 2.0//EN
METHOD:PUBLISH
X-PUBLISHED-TTL:P3D
REFRESH-INTERVAL:P3D
CALSCALE:GREGORIAN
BEGIN:VEVENT
DTSTART;VALUE=DATE:20230201
DTEND;VALUE=DATE:20230301
TRANSP:TRANSPARENT
X-MICROSOFT-CDO-ALLDAYEVENT:TRUE
SUMMARY:WAKE Up & Read Annual Book Drive
DESCRIPTION:Can you imagine a home without books? Unfortunately\, this is a reality for over 30% of children in Wake County. WAKE Up and Read is kicking off the 10th Annual Children's Book Drive to close this gap. Building home libraries is one of our biggest initiatives\, and they need YOUR support!  \n\n \n\nBooks collected during the Drive will allow over 9\,000 children at our 15 partner schools (including Wakelon Elementary in Zebulon) and 17 childcare partners to build their home libraries. Our goal is to allow each child to not only select from gently-read books but also select 2 new high-interest\, inclusive books. Will you join and help meet these goals?\n\n \n\nZebulon Chamber of Commerce is an official WAKE Up and Read Annual Book Drive Partner. Drop off age appropriate\, gently read and new books at the Zebulon Chamber Tuesday through Thursday\, 10 AM to 4 PM.
X-ALT-DESC;FMTTYPE=text/html:<div style="color: rgb(26\, 26\, 26)\; font-family: Lato\, sans-serif\; font-size: 16px\; white-space: pre-wrap\; text-align: justify\;"><span style="color: rgb(0\, 0\, 0)\;">Can you imagine a home without books? Unfortunately\, this is a reality for over 30% of children in Wake County.&nbsp\;</span><a href="http://www.wakeupandread.org/" rel="noopener noreferrer" style="text-decoration-line: none\; color: rgb(0\, 0\, 0)\; font-style: italic\;" target="_blank">WAKE Up and Read</a><span style="color: rgb(0\, 0\, 0)\;"> is kicking off the 10th Annual Children&rsquo\;s Book Drive to close this gap. Building home libraries is one of our biggest initiatives\, and they need YOUR support!&nbsp\;&nbsp\;</span></div>\n\n<div style="color: rgb(26\, 26\, 26)\; font-family: Lato\, sans-serif\; font-size: 16px\; white-space: pre-wrap\; text-align: justify\;">&nbsp\;</div>\n\n<div style="color: rgb(26\, 26\, 26)\; font-family: Lato\, sans-serif\; font-size: 16px\; white-space: pre-wrap\; text-align: justify\;"><span style="color: rgb(0\, 0\, 0)\;">Books collected during the Drive will allow over 9\,000 children at our 15 partner schools (including Wakelon Elementary in Zebulon) and 17 childcare partners to build their home libraries. Our goal is to allow each child to not only select from gently-read books but also select 2 new high-interest\, inclusive books.&nbsp\;Will you join and help meet these goals?</span></div>\n\n<div style="color: rgb(26\, 26\, 26)\; font-family: Lato\, sans-serif\; font-size: 16px\; white-space: pre-wrap\; text-align: justify\;">&nbsp\;</div>\n\n<div style="color: rgb(26\, 26\, 26)\; font-family: Lato\, sans-serif\; font-size: 16px\; white-space: pre-wrap\;"><span style="color: rgb(0\, 0\, 0)\;">Zebulon Chamber of Commerce is an official WAKE Up and Read Annual Book Drive Partner. Drop off age appropriate\, gently read and new books at the Zebulon Chamber Tuesday through Thursday\, 10 AM to 4 PM.</span></div>\n
LOCATION:
UID:e.1168.7547
SEQUENCE:3
DTSTAMP:20260422T164334Z
URL:https://business.zebulonchamber.org/events/details/wake-up-read-annual-book-drive-7547
END:VEVENT

END:VCALENDAR
