BEGIN:VCALENDAR
VERSION:2.0
PRODID:-//ChamberMaster//Event Calendar 2.0//EN
METHOD:PUBLISH
X-PUBLISHED-TTL:P3D
REFRESH-INTERVAL:P3D
CALSCALE:GREGORIAN
BEGIN:VEVENT
DTSTART:20191025T150000Z
DTEND:20191025T160000Z
X-MICROSOFT-CDO-ALLDAYEVENT:FALSE
SUMMARY:Walker Auto & Truck Ribbon Cutting
DESCRIPTION:Come celebrate a Ribbon Cutting at Walker Auto & Truck in their new location on Arendell Avenue. Explore their new retail section and meet the team! \n\n\n\nEnjoy refreshments and mingle with other business and community members.
X-ALT-DESC;FMTTYPE=text/html:Come celebrate a Ribbon Cutting at Walker Auto &amp\; Truck in their new location on Arendell Avenue. Explore their new retail section and meet the team!&nbsp\;<br />\n<br />\nEnjoy refreshments and mingle with other business and community members.
LOCATION:Walker Auto & Truck 1016 North Arendell Avenue
UID:e.1168.5916
SEQUENCE:3
DTSTAMP:20260424T234837Z
URL:https://business.zebulonchamber.org/events/details/walker-auto-truck-ribbon-cutting-5916
END:VEVENT

END:VCALENDAR
