BEGIN:VCALENDAR
VERSION:2.0
PRODID:-//ChamberMaster//Event Calendar 2.0//EN
METHOD:PUBLISH
X-PUBLISHED-TTL:P3D
REFRESH-INTERVAL:P3D
CALSCALE:GREGORIAN
BEGIN:VEVENT
DTSTART:20230523T213000Z
DTEND:20230523T230000Z
X-MICROSOFT-CDO-ALLDAYEVENT:FALSE
SUMMARY:Youth Service Provider Meet Up
DESCRIPTION:Join us for a dynamic networking event with other youth service providers in our community. We are thrilled to have Dauline Singletary of Live Well Wake  guest speaker. Discover innovative approaches\, exchange ideas\, and build collaborative partnerships to empower our youth towards a brighter future.\n\n\n\nZebulon Town Hall\n\n5:30 PM to 7:00 PM
X-ALT-DESC;FMTTYPE=text/html:Join us for a dynamic networking event with other youth service providers in our community. We are thrilled to have<strong> Dauline Singletary of <a href="https://livewellwake.org/">Live Well Wake</a>&nbsp\;</strong> guest speaker. Discover innovative approaches\, exchange ideas\, and build collaborative partnerships to empower our youth towards a brighter future.<br />\n<br />\nZebulon Town Hall<br />\n5:30 PM to 7:00 PM
LOCATION:
UID:e.1168.7567
SEQUENCE:3
DTSTAMP:20260422T110323Z
URL:https://business.zebulonchamber.org/events/details/youth-service-provider-meet-up-7567
END:VEVENT

END:VCALENDAR
