BEGIN:VCALENDAR
VERSION:2.0
PRODID:-//ChamberMaster//Event Calendar 2.0//EN
METHOD:PUBLISH
X-PUBLISHED-TTL:P3D
REFRESH-INTERVAL:P3D
CALSCALE:GREGORIAN
BEGIN:VEVENT
DTSTART:20251113T230000Z
DTEND:20251114T013000Z
X-MICROSOFT-CDO-ALLDAYEVENT:FALSE
SUMMARY:Zebulation - Preservation Zebulon's Annual Historical Celebration
DESCRIPTION:ZEBULATION TICKETS OPEN NOW\n\nEVENT IS THURSDAY NOV 13\n\n\n\nFilm Features Zebulon Country Stores and Their Role in Building Community\n\nOur annual Zebulation event will be held on November 13 from 6 to 8:30 p.m. Our celebration will feature the winners of our preservation awards and our annual Zebulon Memory Project film at the Olde Raleigh Distillery in downtown Zebulon.\n\nOur films will highlight "Country Stores and Their Role in Building Community." The recreated Walter Perry store from the Hopkins area featuring Jim and Becky Perry\, and artifacts and tales from the Berkeley Moses Alford Store in downtown Zebulon featuring Tim and Sandra Richardson.\n\nIn addition another 14 area country stores will be celebrated in our festivities with photos and captioned memories.\n\nEnjoy a catered meal from Parker's Barbecue\, tea\, dessert\, and a cash bar.\n\nTickets are $50. Tickets will be sold until November 6\, or until the event is sold out. Space is limited and the past several years this event has sold out so get your tickets now!
X-ALT-DESC;FMTTYPE=text/html:ZEBULATION TICKETS OPEN NOW<br />\nEVENT IS THURSDAY NOV 13<br />\n<br />\n<em>Film Features Zebulon Country Stores and Their Role in Building Community</em><br />\nOur annual Zebulation event will be held on November 13 from 6 to 8:30 p.m. Our celebration will feature the winners of our preservation awards and our annual Zebulon Memory Project film at the Olde Raleigh Distillery in downtown Zebulon.<br />\nOur films will highlight &ldquo\;Country Stores and Their Role in Building Community.&rdquo\; The recreated Walter Perry store from the Hopkins area featuring Jim and Becky Perry\, and artifacts and tales from the Berkeley Moses Alford Store in downtown Zebulon featuring Tim and Sandra Richardson.<br />\nIn addition another 14 area country stores will be celebrated in our festivities with photos and captioned memories.<br />\nEnjoy a catered meal from Parker&rsquo\;s Barbecue\, tea\, dessert\, and a cash bar.<br />\nTickets are $50. Tickets will be sold until November 6\, or until the event is sold out. Space is limited and the past several years this event has sold out so get your tickets now!<br />\n<br />\n&nbsp\;
LOCATION:Olde Raleigh Distillery Society Room
UID:e.1168.9189
SEQUENCE:3
DTSTAMP:20260422T154925Z
URL:https://business.zebulonchamber.org/events/details/zebulation-preservation-zebulon-s-annual-historical-celebration-9189
END:VEVENT

END:VCALENDAR
