BEGIN:VCALENDAR
VERSION:2.0
PRODID:-//ChamberMaster//Event Calendar 2.0//EN
METHOD:PUBLISH
X-PUBLISHED-TTL:P3D
REFRESH-INTERVAL:P3D
CALSCALE:GREGORIAN
BEGIN:VEVENT
DTSTART;VALUE=DATE:20230909
DTEND;VALUE=DATE:20230910
TRANSP:TRANSPARENT
X-MICROSOFT-CDO-ALLDAYEVENT:TRUE
SUMMARY:Zebulon 8KICKOFF Race
DESCRIPTION:The race has a football theme.  Wear your favorite team colors.  The Zebulon 8K is part of the Triangle Race Series.\n\nThere will be food trucks after the race.\n\n\n\n______________________________________\n\nVOLUNTEERS NEEDED:\n\nWe are getting ready for the 8Kickoff Race in Zebulon and need a few more volunteers! Details are below. Thank you in advance!\n\n \n\nWhen: Saturday\, September 9th\, 2023 from 8am-11am (times vary per volunteer spot)\n\nWho: Contact Lisa McMahon at 919-637-5657 (call or text) or email her at lmcmahon@pmpcpa.com\n\n______________________________________\n\n\nSchedule of Events:\n\n\n\nAdvanced Check-In will be held on September 6 from 4-7 pm at 600 N Arendell Ave in Zebulon.\n\n\n\nRace Day:\n\n\n	Registration/Check-In opens at 8 AM at 1003 N Arendell Ave Zebulon NC\n	8K Race start at 9 AM.\n\nParking at behind the Zebulon Town Hall building.\n\n\n\n\n\nRegistration Fees:\n\n\n	Ages 6-15:\n	\n		$20 before 7/31/2023\n		$25 7/31/2023   8/31/2023\n		$30 9/1/2023   9/9/2023\n	\n	\n\n\n\n	Ages 16+:\n	\n		$25 before 7/31/2023\n		$30 7/31/2023   8/31/2023\n		$35 9/1/2023   9/9/2023\n	\n	\n\nRegistration includes a race shirt (sizes Sm - 2X)\n\n\n\n\n\nRace Awards:\n\n\n	Top 3 Overall M & F\n	Top 3 M & F in these age groups:  15 & Under\, 16-19\, 20-29\, 30-39\, 40-49\, 50-59\, 60-69\, 70+\n\n\n\nRace Charity:  Zebulon Boys & Girls Club
X-ALT-DESC;FMTTYPE=text/html:<p font-size:="" helvetica="" style="box-sizing: border-box\; margin: 0px 0px 30px\; color: rgb(0\, 0\, 0)\; font-family: ">The race has a football theme.&nbsp\;&nbsp\;<em style="box-sizing: border-box\;">Wear your favorite team colors</em>.&nbsp\; The Zebulon 8K is part of the&nbsp\;<span style="box-sizing: border-box\; color: rgb(0\, 128\, 0)\;"><span style="box-sizing: border-box\; font-weight: 700\;"><a href="https://www.triangleraces.com/" rel="noopener" style="box-sizing: border-box\; background: 0px 0px\; text-decoration-line: none\; color: rgb(0\, 128\, 0)\; transition: all 0.2s ease 0s\;" target="_blank">Triangle Race Series</a></span></span>.<br />\n<span style="color: rgb(0\, 0\, 0)\;">There will be food trucks after the race.</span><br />\n<br />\n______________________________________<br />\n<strong><span style="color:#800000\;">VOLUNTEERS NEEDED:</span></strong><br />\nWe are getting ready for the 8Kickoff Race in Zebulon and need a few more volunteers! Details are below. Thank you in advance!<br />\n&nbsp\;<br />\nWhen: Saturday\, September 9<sup>th</sup>\, 2023 from 8am-11am (times vary per volunteer spot)<br />\nWho: Contact Lisa McMahon at 919-637-5657 (call or text) or email her at <a href="mailto:lmcmahon@pmpcpa.com">lmcmahon@pmpcpa.com</a><br />\n<span style="color: rgb(0\, 0\, 0)\;">______________________________________</span></p>\n<br />\n<span font-size:="" helvetica="" style="box-sizing: border-box\; font-weight: 700\; color: rgb(0\, 0\, 0)\; font-family: ">Schedule of Events:</span><br font-size:="" helvetica="" style="box-sizing: border-box\; color: rgb(0\, 0\, 0)\; font-family: " />\n<br font-size:="" helvetica="" style="box-sizing: border-box\; color: rgb(0\, 0\, 0)\; font-family: " />\n<span font-size:="" helvetica="" style="color: rgb(0\, 0\, 0)\; font-family: ">Advanced Check-In will be held on September 6 from 4-7 pm at 600 N Arendell Ave in Zebulon.</span><br font-size:="" helvetica="" style="box-sizing: border-box\; color: rgb(0\, 0\, 0)\; font-family: " />\n<br font-size:="" helvetica="" style="box-sizing: border-box\; color: rgb(0\, 0\, 0)\; font-family: " />\n<span font-size:="" helvetica="" style="color: rgb(0\, 0\, 0)\; font-family: ">Race Day:</span>\n\n<ul font-size:="" helvetica="" style="box-sizing: border-box\; margin-top: 0px\; margin-bottom: 10px\; color: rgb(0\, 0\, 0)\; font-family: ">\n	<li style="box-sizing: border-box\;">Registration/Check-In opens at 8 AM at&nbsp\;1003 N Arendell Ave Zebulon NC</li>\n	<li style="box-sizing: border-box\;">8K Race start at 9 AM.</li>\n</ul>\n<span font-size:="" helvetica="" style="color: rgb(0\, 0\, 0)\; font-family: ">Parking at behind the Zebulon Town Hall building.</span><br font-size:="" helvetica="" style="box-sizing: border-box\; color: rgb(0\, 0\, 0)\; font-family: " />\n<br font-size:="" helvetica="" style="box-sizing: border-box\; color: rgb(0\, 0\, 0)\; font-family: " />\n<br font-size:="" helvetica="" style="box-sizing: border-box\; color: rgb(0\, 0\, 0)\; font-family: " />\n<span font-size:="" helvetica="" style="box-sizing: border-box\; font-weight: 700\; color: rgb(0\, 0\, 0)\; font-family: ">Registration Fees:</span>\n\n<ul font-size:="" helvetica="" style="box-sizing: border-box\; margin-top: 0px\; margin-bottom: 10px\; color: rgb(0\, 0\, 0)\; font-family: ">\n	<li style="box-sizing: border-box\;">Ages 6-15:\n	<ul style="box-sizing: border-box\; margin-top: 0px\; margin-bottom: 0px\;">\n		<li style="box-sizing: border-box\;">$20 before 7/31/2023</li>\n		<li style="box-sizing: border-box\;">$25 7/31/2023 &ndash\; 8/31/2023</li>\n		<li style="box-sizing: border-box\;">$30 9/1/2023 &ndash\; 9/9/2023</li>\n	</ul>\n	</li>\n</ul>\n\n<ul font-size:="" helvetica="" style="box-sizing: border-box\; margin-top: 0px\; margin-bottom: 10px\; color: rgb(0\, 0\, 0)\; font-family: ">\n	<li style="box-sizing: border-box\;">Ages 16+:\n	<ul style="box-sizing: border-box\; margin-top: 0px\; margin-bottom: 0px\;">\n		<li style="box-sizing: border-box\;">$25 before 7/31/2023</li>\n		<li style="box-sizing: border-box\;">$30 7/31/2023 &ndash\; 8/31/2023</li>\n		<li style="box-sizing: border-box\;">$35 9/1/2023 &ndash\; 9/9/2023</li>\n	</ul>\n	</li>\n</ul>\n<span font-size:="" helvetica="" style="color: rgb(0\, 0\, 0)\; font-family: ">Registration includes a race shirt (sizes Sm - 2X)</span><br font-size:="" helvetica="" style="box-sizing: border-box\; color: rgb(0\, 0\, 0)\; font-family: " />\n<br font-size:="" helvetica="" style="box-sizing: border-box\; color: rgb(0\, 0\, 0)\; font-family: " />\n<br font-size:="" helvetica="" style="box-sizing: border-box\; color: rgb(0\, 0\, 0)\; font-family: " />\n<span font-size:="" helvetica="" style="box-sizing: border-box\; font-weight: 700\; color: rgb(0\, 0\, 0)\; font-family: ">Race Awards:</span>\n\n<ul font-size:="" helvetica="" style="box-sizing: border-box\; margin-top: 0px\; margin-bottom: 10px\; color: rgb(0\, 0\, 0)\; font-family: ">\n	<li style="box-sizing: border-box\;">Top 3 Overall M &amp\; F</li>\n	<li style="box-sizing: border-box\;">Top 3 M &amp\; F in these age groups:&nbsp\; 15 &amp\; Under\, 16-19\, 20-29\, 30-39\, 40-49\, 50-59\, 60-69\, 70+</li>\n</ul>\n<br font-size:="" helvetica="" style="box-sizing: border-box\; color: rgb(0\, 0\, 0)\; font-family: " />\n<span font-size:="" helvetica="" style="box-sizing: border-box\; font-weight: 700\; color: rgb(0\, 0\, 0)\; font-family: ">Race Charity:&nbsp\; Zebulon Boys &amp\; Girls Club</span>
LOCATION:
UID:e.1168.7575
SEQUENCE:3
DTSTAMP:20260421T150010Z
URL:https://business.zebulonchamber.org/events/details/zebulon-8kickoff-race-7575
END:VEVENT

END:VCALENDAR
