BEGIN:VCALENDAR
VERSION:2.0
PRODID:-//ChamberMaster//Event Calendar 2.0//EN
METHOD:PUBLISH
X-PUBLISHED-TTL:P3D
REFRESH-INTERVAL:P3D
CALSCALE:GREGORIAN
BEGIN:VEVENT
DTSTART;VALUE=DATE:20230820
DTEND;VALUE=DATE:20230827
TRANSP:TRANSPARENT
X-MICROSOFT-CDO-ALLDAYEVENT:TRUE
SUMMARY:Zebulon Chamber Educator Appreciation Week
DESCRIPTION:Announcing Zebulon Chamber Educator Appreciation Week!  \n\n \n\nIt's time to celebrate our incredible educators and show them how much we value their dedication and hard work in shaping the future of our children! The Zebulon Chamber of Commerce is pleased to present the Zebulon Chamber Educator Appreciation Week.\n\n\n\nDuring this special week\, Chamber members will be extending their gratitude to all faculty and staff members with a host of exciting perks and discounts. We invite area teachers\, administrators\, and school staff to take advantage of these exclusive offerings as a token of our appreciation.\n\n \n\nWhen: Sunday\, August 20\, 2023\, through Saturday\, August 26\, 2023\n\nWhere: At Participating Zebulon Chamber Members (Check back as the list is growing.)\n\nWho: Faculty and Staff of Zebulon-based Schools: East Wake Academy\, East Wake Education Foundation\, East Wake High School\, Wakelon Elementary School\, Zebulon Elementary School\, Zebulon GT Magnet Middle School\, Heritage Christian. Must show current\, valid school ID at participating Chamber members to qualify.\n\n \n\nThanks to these Zebulon Chamber members for offering perks during Zebulon Chamber Educator Appreciation Week:\n\n \n\n  Carolina Mudcats\n\n  East Wake Collective\n\n  Functional Fitness 360\n\n  McLean's Ole Time Caf \n\n  Root-Bound\n\n  Second Wind Computers\n\n  Southland Steakhouse\n\n  The Creative Cup\n\n  True Value Hardware of Zebulon\n\n  Universal Chevrolet of Wendell\n\n  Vibrant Nutrition\n\n  Victory Lane Quick Oil Change\n\n  Walker Auto & Truck\n\n \n\nIt is our hope that these offerings will bring a smile to the faces of our exceptional educators and convey our heartfelt gratitude for their tireless efforts in nurturing Zebulon's next generation.
X-ALT-DESC;FMTTYPE=text/html:<span segoe="" ui="">&#128226\;</span>&nbsp\;Announcing Zebulon Chamber Educator Appreciation Week!&nbsp\;<span segoe="" ui="">&#127881\;</span><br />\n&nbsp\;<br />\nIt&#39\;s time to celebrate our incredible educators and show them how much we value their dedication and hard work in shaping the future of our children! The Zebulon Chamber of Commerce is pleased to present the Zebulon Chamber Educator Appreciation Week.<br />\n<br />\nDuring this special week\, Chamber members will be extending their gratitude to all faculty and staff members with a host of exciting perks and discounts. We invite area teachers\, administrators\, and school staff to take advantage of these exclusive offerings as a token of our appreciation.<br />\n&nbsp\;<br />\n<strong>When</strong>: Sunday\, August 20\, 2023\, through Saturday\, August 26\, 2023<br />\n<strong>Where</strong>: At Participating Zebulon Chamber Members (Check back as the list is growing.)<br />\n<strong>Who</strong>: Faculty and Staff of Zebulon-based Schools:&nbsp\;<a href="https://business.zebulonchamber.org/list/member/east-wake-academy-69">East Wake Academy</a>\,&nbsp\;<a href="https://business.zebulonchamber.org/list/member/east-wake-education-foundation-72">East Wake Education Foundation</a>\, East Wake High School\,&nbsp\;<a href="https://business.zebulonchamber.org/list/member/wakelon-elementary-school-231">Wakelon Elementary School</a>\, Zebulon Elementary School\,&nbsp\;<a href="https://business.zebulonchamber.org/list/member/zebulon-gt-magnet-middle-school-zebulon-255">Zebulon GT Magnet Middle School</a>\, Heritage Christian. Must show current\, valid school ID at participating Chamber members to qualify.<br />\n&nbsp\;<br />\nThanks to these Zebulon Chamber members for offering perks during Zebulon Chamber Educator Appreciation Week:<br />\n&nbsp\;<br />\n<span style="font-family:segoe ui emoji\,sans-serif\;">&#127822\;</span> <span style="font-size:14px\;"><span style="font-family:arial\;"><a href="https://business.zebulonchamber.org/list/member/carolina-mudcats-46">Carolina Mudcats</a><br />\n&#127822\; <a href="https://business.zebulonchamber.org/list/member/east-wake-collective-2188">East Wake Collective</a><br />\n&#127822\; <a href="https://business.zebulonchamber.org/list/member/functional-fitness-360-2219">Functional Fitness 360</a><br />\n&#127822\; <a href="https://business.zebulonchamber.org/list/member/mclean-s-ole-time-cafe-423">McLean&rsquo\;s Ole Time Caf&eacute\;</a><br />\n&#127822\; <a href="https://business.zebulonchamber.org/list/member/root-bound-nc-llc-2231">Root-Bound</a><br />\n&#127822\; <a href="https://business.zebulonchamber.org/list/member/second-wind-computers-188">Second Wind Computers</a><br />\n&#127822\; <a href="https://business.zebulonchamber.org/list/member/southland-steakhouse-729">Southland Steakhouse</a><br />\n&#127822\; <a href="https://business.zebulonchamber.org/list/member/the-creative-cup-1775">The Creative Cup</a><br />\n&#127822\; <a href="https://business.zebulonchamber.org/list/member/true-value-hardware-2264">True Value Hardware of Zebulon</a><br />\n&#127822\; <a href="https://business.zebulonchamber.org/list/member/universal-chevrolet-2257">Universal Chevrolet of Wendell</a><br />\n&#127822\; <a href="https://business.zebulonchamber.org/list/member/vibrant-nutrition-2230">Vibrant Nutrition</a><br />\n&#127822\; <a href="https://business.zebulonchamber.org/list/member/victory-lane-quick-oil-change-224">Victory Lane Quick Oil Change</a><br />\n&#127822\; <a href="https://business.zebulonchamber.org/list/member/walker-auto-truck-zebulon-1972">Walker Auto &amp\; Truck</a></span></span><br />\n&nbsp\;<br />\nIt is our hope that these offerings will bring a smile to the faces of our exceptional educators and convey our heartfelt gratitude for their tireless efforts in nurturing Zebulon&rsquo\;s next generation.
LOCATION:
UID:e.1168.7574
SEQUENCE:3
DTSTAMP:20260422T064855Z
URL:https://business.zebulonchamber.org/events/details/zebulon-chamber-educator-appreciation-week-7574
END:VEVENT

END:VCALENDAR
