BEGIN:VCALENDAR
VERSION:2.0
PRODID:-//ChamberMaster//Event Calendar 2.0//EN
METHOD:PUBLISH
X-PUBLISHED-TTL:P3D
REFRESH-INTERVAL:P3D
CALSCALE:GREGORIAN
BEGIN:VEVENT
DTSTART:20230816T213000Z
DTEND:20230816T223000Z
X-MICROSOFT-CDO-ALLDAYEVENT:FALSE
SUMMARY:Zebulon Chamber Membership Committee Meeting
DESCRIPTION:Members of the Zebulon Chamber Membership Committee to convene.
X-ALT-DESC;FMTTYPE=text/html:Members of the Zebulon Chamber Membership Committee to convene.
LOCATION:
UID:e.1168.7573
SEQUENCE:3
DTSTAMP:20260422T065321Z
URL:https://business.zebulonchamber.org/events/details/zebulon-chamber-membership-committee-meeting-7573
END:VEVENT

END:VCALENDAR
