BEGIN:VCALENDAR
VERSION:2.0
PRODID:-//ChamberMaster//Event Calendar 2.0//EN
METHOD:PUBLISH
X-PUBLISHED-TTL:P3D
REFRESH-INTERVAL:P3D
CALSCALE:GREGORIAN
BEGIN:VEVENT
DTSTART:20230822T200000Z
DTEND:20230822T211500Z
X-MICROSOFT-CDO-ALLDAYEVENT:FALSE
SUMMARY:Zebulon Chamber Nonprofit Roundtable
DESCRIPTION:Representatives from nonprofit members of the Zebulon Chamber of Commerce are encouraged to join us in this is inaugural meeting of the Zebulon Chamber Nonprofit Roundtable. \n\n\n\nThe Zebulon Chamber Nonprofit Roundtable focuses on strengthening the nonprofit sector in the region. It serves as a collaborative platform for member organizations to connect\, share resources\, and address common challenges\, fostering a supportive network that enhances their collective capacity. Through regular meetings\, workshops\, and events\, the roundtable facilitates networking opportunities\, encourages resource sharing\, and promotes collaboration among nonprofits for enhancing community initiatives. Additionally\, the roundtable actively engages with the broader community to build relationships and partnerships\, organizing events and campaigns that promote the work of nonprofits and encourage community involvement\, creating a more integrated and supportive community ecosystem.
X-ALT-DESC;FMTTYPE=text/html:<span style="font-size:14px\;"><span style="font-family:arial\;"><span style="color: rgb(73\, 73\, 73)\;">Representatives from nonprofit members of the Zebulon Chamber of Commerce are encouraged to join us in t</span></span></span><span style="color: rgb(73\, 73\, 73)\; font-family: arial\; font-size: 14px\;">his is inaugural meeting of the Zebulon Chamber Nonprofit Roundtable.&nbsp\;</span><br />\n<br />\n<span style="font-size:14px\;"><span style="font-family:arial\;"><span style="color: rgb(73\, 73\, 73)\;">The Zebulon Chamber Nonprofit Roundtable focuses on strengthening the nonprofit sector in the region. It serves as a collaborative platform for member organizations to connect\, share resources\, and address common challenges\, fostering a supportive network that enhances their collective capacity. Through regular meetings\, workshops\, and events\, the roundtable facilitates networking opportunities\, encourages resource sharing\, and promotes collaboration among nonprofits for enhancing community initiatives. Additionally\, the roundtable actively engages with the broader community to build relationships and partnerships\, organizing events and campaigns that promote the work of nonprofits and encourage community involvement\, creating a more integrated and supportive community ecosystem.</span></span></span>
LOCATION:
UID:e.1168.7571
SEQUENCE:3
DTSTAMP:20260422T065114Z
URL:https://business.zebulonchamber.org/events/details/zebulon-chamber-nonprofit-roundtable-7571
END:VEVENT

END:VCALENDAR
