BEGIN:VCALENDAR
VERSION:2.0
PRODID:-//ChamberMaster//Event Calendar 2.0//EN
METHOD:PUBLISH
X-PUBLISHED-TTL:P3D
REFRESH-INTERVAL:P3D
CALSCALE:GREGORIAN
BEGIN:VEVENT
DTSTART:20231003T200000Z
DTEND:20231003T213000Z
X-MICROSOFT-CDO-ALLDAYEVENT:FALSE
SUMMARY:Zebulon Chamber Nonprofit Roundtable
DESCRIPTION:Representatives from nonprofit members of the Zebulon Chamber of Commerce are invited to join each other at the Zebulon Chamber Nonprofit Roundtable.\n\n\n\nThis particular meeting\, members will share their calendars of events with each other to assist in coordinating\, collaborating\, and supporting each other in Zebulon's civic life.\n\n\n\nPlease RSVP to jsaffold@zebulonchamber.org\n\n\n\nThe Zebulon Chamber Nonprofit Roundtable focuses on strengthening the nonprofit sector in the region. It serves as a collaborative platform for member organizations to connect\, share resources\, and address common challenges\, fostering a supportive network that enhances their collective capacity. Through regular meetings\, workshops\, and events\, the roundtable facilitates networking opportunities\, encourages resource sharing\, and promotes collaboration among nonprofits for enhancing community initiatives. Additionally\, the roundtable actively engages with the broader community to build relationships and partnerships\, organizing events and campaigns that promote the work of nonprofits and encourage community involvement\, creating a more integrated and supportive community ecosystem.
X-ALT-DESC;FMTTYPE=text/html:<span style="font-size:14px\;"><span style="font-family:arial\;"><span style="color: rgb(73\, 73\, 73)\;">Representatives from nonprofit members of the Zebulon Chamber of Commerce are invited to join each other at the&nbsp\;</span></span></span><span style="color: rgb(73\, 73\, 73)\; font-family: arial\; font-size: 14px\;">Zebulon Chamber Nonprofit Roundtable.<br />\n<br />\nThis particular meeting\, members will share their calendars of events with each other to assist in coordinating\, collaborating\, and supporting each other in Zebulon&#39\;s civic life.<br />\n<br />\nPlease RSVP to&nbsp\;<a href="mailto:jsaffold@zebulonchamber.org?subject=RSVP_Zebulon%20Chamber%20Nonprofit%20Roundtable&amp\;body=My%20Name%3A%0AName%20of%20Zebulon%20Chamber%20Nonprofit%20Member%20Organization%20I%20represent%3A">jsaffold@zebulonchamber.org</a></span><br />\n<br />\n<span style="font-size:14px\;"><span style="font-family:arial\;"><span style="color: rgb(73\, 73\, 73)\;">The Zebulon Chamber Nonprofit Roundtable focuses on strengthening the nonprofit sector in the region. It serves as a collaborative platform for member organizations to connect\, share resources\, and address common challenges\, fostering a supportive network that enhances their collective capacity. Through regular meetings\, workshops\, and events\, the roundtable facilitates networking opportunities\, encourages resource sharing\, and promotes collaboration among nonprofits for enhancing community initiatives. Additionally\, the roundtable actively engages with the broader community to build relationships and partnerships\, organizing events and campaigns that promote the work of nonprofits and encourage community involvement\, creating a more integrated and supportive community ecosystem.</span></span></span>
LOCATION:Zebulon Chamber
UID:e.1168.7626
SEQUENCE:3
DTSTAMP:20260422T035500Z
URL:https://business.zebulonchamber.org/events/details/zebulon-chamber-nonprofit-roundtable-7626
END:VEVENT

END:VCALENDAR
