BEGIN:VCALENDAR
VERSION:2.0
PRODID:-//ChamberMaster//Event Calendar 2.0//EN
METHOD:PUBLISH
X-PUBLISHED-TTL:P3D
REFRESH-INTERVAL:P3D
CALSCALE:GREGORIAN
BEGIN:VEVENT
DTSTART:20240722T210000Z
DTEND:20240722T220000Z
X-MICROSOFT-CDO-ALLDAYEVENT:FALSE
SUMMARY:Zebulon Chamber Young Professionals Launch & Learn
DESCRIPTION:Are You Out of High School through Age 39? Zebulon Chamber Has News You Can Use!  \n\n \n\nThe Zebulon Chamber announces the launch of Zebulon Chamber Young Professionals (ZCYPG) a new initiative designed to connect like-minded individuals in a dynamic and engaging environment.\n\n \n\nJoin us for the ZCYP Interest Meeting on Monday\, July 22\, 2024\, from 5:00 PM to 6:00 PM at the Zebulon Chamber. Enjoy pizza and soft drinks while you learn about this exciting new group!\n\n \n\nWhat's ZCYPG all about?\n\nNetworking: Meet other young professionals in the area and expand your professional circle.\n\nLearning: Participate in events and programming tailored to your unique needs and interests.\n\nGrowth: Whether you're just starting your career or are a seasoned entrepreneur\, ZCYPG offers opportunities for personal and professional development.\n\n \n\nKick-off Event: Tools4Schools Drive\n\nTo kick off ZCYPG\, we're leading a community-wide service project: the Tools4Schools Drive\, Wake County's largest school supply drive. This initiative will be led by young businesspeople from the Zebulon Chamber and is a fantastic opportunity to give back to our community.\n\n \n\nWho Should Attend?\n\n\n	Young people out of high school through age 39 who are pursuing their passions\n	Individuals in this age group who want to create something new and make a difference\n	Zebulon Chamber members\n	Employees of member organizations\n	Individuals interested in becoming members\n\n\n \n\nWhy Attend?\n\n\n	Make meaningful connections\n	Get involved in community service\n	Lead the way in our community\n\n\n \n\nRegister now for the ZCYPG Kick-off and to get involved in the Tools4Schools Drive!\n\n \n\nWe can't wait to see you there!
X-ALT-DESC;FMTTYPE=text/html:<div>&#128640\; <span style="font-size:16px\;"><strong>Are You Out of High School through Age 39? Zebulon Chamber Has News You Can Use!</strong></span> &#128640\;</div>\n\n<div>&nbsp\;</div>\n\n<div><span style="font-size:14px\;">The Zebulon Chamber announces the launch of Zebulon Chamber Young Professionals&nbsp\;(ZCYPG)&nbsp\;a new initiative designed to connect like-minded individuals in a dynamic and engaging environment.</span></div>\n\n<div>&nbsp\;</div>\n\n<div><span style="font-size:14px\;">Join us for the <strong>ZCYP Interest Meeting </strong>on <strong>Monday\, July 22\, 2024\, from 5:00 PM to 6:00 PM at the Zebulon Chamber</strong>. Enjoy pizza and soft drinks while you learn about this exciting new group!</span></div>\n\n<div>&nbsp\;</div>\n\n<div><span style="font-size:14px\;"><strong>What&#39\;s ZCYPG all about?</strong></span></div>\n\n<div><span style="font-size:14px\;">Networking: Meet other young professionals in the area and expand your professional circle.</span></div>\n\n<div><span style="font-size:14px\;">Learning: Participate in events and programming tailored to your unique needs and interests.</span></div>\n\n<div><span style="font-size:14px\;">Growth: Whether you&#39\;re just starting your career or are a seasoned entrepreneur\, ZCYPG offers opportunities for personal and professional development.</span></div>\n\n<div>&nbsp\;</div>\n\n<div><span style="font-size:14px\;"><strong>Kick-off Event: Tools4Schools Drive</strong></span></div>\n\n<div><span style="font-size:14px\;">To kick off ZCYPG\, we&rsquo\;re leading a community-wide service project: the Tools4Schools Drive\, Wake County&rsquo\;s largest school supply drive. This initiative will be led by young businesspeople from the Zebulon Chamber and is a fantastic opportunity to give back to our community.</span></div>\n\n<div>&nbsp\;</div>\n\n<div><span style="font-size:14px\;"><strong>Who Should Attend?</strong></span></div>\n\n<ul>\n	<li><span style="font-size:14px\;">Young people&nbsp\;out of high school through age 39 who are pursuing their passions</span></li>\n	<li><span style="font-size: 14px\;">Individuals in this age group who want to create something new and make a difference</span></li>\n	<li><span style="font-size:14px\;">Zebulon Chamber members</span></li>\n	<li><span style="font-size:14px\;">Employees of member organizations</span></li>\n	<li><span style="font-size:14px\;">Individuals interested in becoming members</span></li>\n</ul>\n\n<div>&nbsp\;</div>\n\n<div><span style="font-size:14px\;"><strong>Why Attend?</strong></span></div>\n\n<ul>\n	<li><span style="font-size:14px\;">Make meaningful connections</span></li>\n	<li><span style="font-size:14px\;">Get involved in community service</span></li>\n	<li><span style="font-size:14px\;">Lead the way in our community</span></li>\n</ul>\n\n<div>&nbsp\;</div>\n\n<div><span style="font-size:14px\;"><strong>Register now</strong> for the ZCYPG Kick-off and to get involved in the Tools4Schools Drive!</span></div>\n\n<div>&nbsp\;</div>\n\n<div><span style="font-size:14px\;">We can&rsquo\;t wait to see you there!</span></div>\n
LOCATION:
UID:e.1168.7921
SEQUENCE:3
DTSTAMP:20260421T155031Z
URL:https://business.zebulonchamber.org/events/details/zebulon-chamber-young-professionals-launch-learn-7921
END:VEVENT

END:VCALENDAR
