BEGIN:VCALENDAR
VERSION:2.0
PRODID:-//ChamberMaster//Event Calendar 2.0//EN
METHOD:PUBLISH
X-PUBLISHED-TTL:P3D
REFRESH-INTERVAL:P3D
CALSCALE:GREGORIAN
BEGIN:VEVENT
DTSTART:20240812T213000Z
DTEND:20240812T223000Z
X-MICROSOFT-CDO-ALLDAYEVENT:FALSE
SUMMARY:Zebulon Chamber Young Professionals: Moving On Up Planning Meeting
DESCRIPTION:Join Zebulon Chamber Young Professionals for a Moving Event\n\nMoving on Up Planning Meeting\n\n\nWe're hosting a follow-up meeting for Zebulon Chamber Young Professionals (ZCYP)\, and we'd love for you to be part of it!\n\n\n\nWho Should Attend?\n\n\n	Young professionals out of high school through age 39\n	Individuals who want to create something new and make a difference\n	Zebulon Chamber members\n	Employees of member organizations\n	Individuals interested in becoming members\n\nOur goal is to structure ZCYP and set the stage for its success. We'll discuss key initiatives\, upcoming events\, and ways to engage within our community. Here are some areas where we need your help:\n\n\n	Volunteers for Tools4Schools Collection Sites:\n\n	We're looking for dedicated individuals to adopt Tools4Schools collection sites. Your role would involve monitoring and picking up donated items. By supporting this initiative\, you'll directly impact local students' education.\n	Social Media Ambassadors:\n\n	Help us spread the word about Tools4Schools! We're seeking volunteers to create engaging social media posts\, share our mission\, and encourage others to participate. Your voice matters\, and together\, we can make a difference.\n	Founding Committee Members:\n\n	Are you passionate about shaping the future of ZCYP? Consider joining our founding committee. You'll collaborate with ZCoC staff and Board of Directors to guide our organizational process and drive positive change.\n\n\n\nDate: Monday\, August 12\, 2024\n\nTime: 5:30 PM to 6:30 PM\n\nLocation: Zebulon Chamber\, 815 N Arendell Ave\n\nRSVP: Use the link to register\n\n\n\nWhy Attend?\n\n\n	Be Part of Something Bigger\n	Networking: Meet like-minded professionals and expand your circle.\n	Learning: Participate in tailored events and programming.\n	Growth: Whether you're starting your career or an experienced entrepreneur\, ZCYP offers personal and professional development opportunities.
X-ALT-DESC;FMTTYPE=text/html:<div aria-description="" aria-label="Sent by Copilot: Here's a draft for your event page:\n\n---\n\n### Join Us for the ZCYP Follow-Up Meeting!\n\n**Date:** Monday\, August 12\, 2024  \n**Time:** 5:30 PM to 6:30 PM  \n**Location:** Zebulon Chamber\, 815 N Arendell Ave\n\n---\n\n**Purpose of the Meeting: Moving ZCYP Forward**\n\nAs an active member of the Zebulon Chamber and a young professional\, we have some exciting news to share. We?re hosting a follow-up meeting for Zebulon Chamber Young Professionals (ZCYP)\, and we?d love for you to be part of it!\n\nOur goal is to structure ZCYP and set the stage for its success. We?ll discuss key initiatives\, upcoming events\, and ways to engage within our community. Here are some areas where we need your help:\n\n1. **Volunteers for Tools4Schools Collection Sites:**  \n   We?re looking for dedicated individuals to adopt Tools4Schools collection sites. Your role would involve monitoring and picking up donated items. By supporting this initiative\, you?ll directly impact local students? education.\n\n2. **Social Media Ambassadors:**  \n   Help us spread the word about Tools4Schools! We?re seeking volunteers to create engaging social media posts\, share our mission\, and encourage others to participate. Your voice matters\, and together\, we can make a difference.\n\n3. **Founding Committee Members:**  \n   Are you passionate about shaping the future of ZCYP? Consider joining our founding committee. You?ll collaborate with ZCoC staff and Board of Directors to guide our organizational process and drive positive change.\n\n---\n\n**Who Should Attend?**\n\n- Young professionals out of high school through age 39\n- Individuals who want to create something new and make a difference\n- Zebulon Chamber members\n- Employees of member organizations\n- Individuals interested in becoming members\n\n---\n\n**Why Attend?**\n\n- **Networking:** Meet like-minded professionals and expand your circle.\n- **Learning:** Participate in tailored events and programming.\n- **Growth:** Whether you?re starting your career or an experienced entrepreneur\, ZCYP offers personal and professional development opportunities.\n\n---\n\nLet?s make meaningful connections\, get involved in community service\, and lead the way in our community. RSVP by [RSVP Deadline] to secure your spot!\n\nThank you for being part of ZCYP and working together to grow our community and businesses. We look forward to seeing you at the follow-up meeting.\n\n---\n\nFeel free to adjust any details as needed!" tabindex="0">\n<div>\n<h3 style="text-align: center\;"><span style="font-size:20px\;"><strong><span style="font-family:arial\;">Join Zebulon Chamber Young Professionals for a Moving Event<br />\nMoving on Up Planning Meeting</span></strong></span></h3>\n<br />\n<span style="font-size:16px\;"><span style="font-family:arial\;">We&rsquo\;re hosting a follow-up meeting for Zebulon Chamber Young Professionals (ZCYP)\, and we&rsquo\;d love for you to be part of it!</span><br />\n<br />\n<span style="background-color:#ffffff\;"><span style="font-family:sans-serif\,arial\,verdana\,trebuchet ms\;"><span style="color:#333333\;"><span style="font-family:arial\;"><strong>Who Should Attend?</strong></span></span></span></span></span>\n\n<ul>\n	<li><span style="font-size:16px\;"><span style="font-family:arial\;">Young professionals out of high school through age 39</span></span></li>\n	<li><span style="font-size:16px\;"><span style="font-family:arial\;">Individuals who want to create something new and make a difference</span></span></li>\n	<li><span style="font-size:16px\;"><span style="font-family:arial\;">Zebulon Chamber members</span></span></li>\n	<li><span style="font-size:16px\;"><span style="font-family:arial\;">Employees of member organizations</span></span></li>\n	<li><span style="font-size:16px\;"><span style="font-family:arial\;">Individuals interested in becoming members</span></span></li>\n</ul>\n<span style="font-size:16px\;"><span style="font-family:arial\;">Our goal is to structure ZCYP and set the stage for its success. We&rsquo\;ll discuss key initiatives\, upcoming events\, and ways to engage within our community. Here are some areas where we need your help:</span></span>\n\n<ol>\n	<li><span style="font-size:16px\;"><span style="font-family:arial\;"><strong>Volunteers for Tools4Schools Collection Sites:</strong><br />\n	We&rsquo\;re looking for dedicated individuals to adopt Tools4Schools collection sites. Your role would involve monitoring and picking up donated items. By supporting this initiative\, you&rsquo\;ll directly impact local students&rsquo\; education.</span></span></li>\n	<li><span style="font-size:16px\;"><span style="font-family:arial\;"><strong>Social Media Ambassadors:</strong><br />\n	Help us spread the word about Tools4Schools! We&rsquo\;re seeking volunteers to create engaging social media posts\, share our mission\, and encourage others to participate. Your voice matters\, and together\, we can make a difference.</span></span></li>\n	<li><span style="font-size:16px\;"><span style="font-family:arial\;"><strong>Founding Committee Members:</strong><br />\n	Are you passionate about shaping the future of ZCYP? Consider joining our founding committee. You&rsquo\;ll collaborate with ZCoC staff and Board of Directors to guide our organizational process and drive positive change.</span></span></li>\n</ol>\n<br />\n<span style="font-size:16px\;"><span style="font-family:arial\;"><strong>Date:</strong> Monday\, August 12\, 2024<br />\n<strong>Time:</strong> 5:30 PM to 6:30 PM<br />\n<strong>Location:</strong> Zebulon Chamber\, 815 N Arendell Ave<br />\n<strong>RSVP</strong>: Use the link to register</span></span><br />\n<br />\n<span style="font-size:16px\;"><span style="font-family:arial\;"><strong>Why Attend?</strong></span></span>\n\n<ul>\n	<li><span style="font-size:16px\;"><strong><span style="font-family:arial\;">Be Part of Something Bigger</span></strong></span></li>\n	<li><span style="font-size:16px\;"><span style="font-family:arial\;"><strong>Networking:</strong> Meet like-minded professionals and expand your circle.</span></span></li>\n	<li><span style="font-size:16px\;"><span style="font-family:arial\;"><strong>Learning:</strong> Participate in tailored events and programming.</span></span></li>\n	<li><span style="font-size:16px\;"><span style="font-family:arial\;"><strong>Growth:</strong> Whether you&rsquo\;re starting your career or an experienced entrepreneur\, ZCYP offers personal and professional development opportunities.</span></span></li>\n</ul>\n\n<hr /></div>\n<cib-overlay></cib-overlay></div>\n
LOCATION:
UID:e.1168.7928
SEQUENCE:3
DTSTAMP:20260421T164537Z
URL:https://business.zebulonchamber.org/events/details/zebulon-chamber-young-professionals-moving-on-up-planning-meeting-7928
END:VEVENT

END:VCALENDAR
