BEGIN:VCALENDAR
VERSION:2.0
PRODID:-//ChamberMaster//Event Calendar 2.0//EN
METHOD:PUBLISH
X-PUBLISHED-TTL:P3D
REFRESH-INTERVAL:P3D
CALSCALE:GREGORIAN
BEGIN:VEVENT
DTSTART;VALUE=DATE:20230201
DTEND;VALUE=DATE:20230202
TRANSP:TRANSPARENT
X-MICROSOFT-CDO-ALLDAYEVENT:TRUE
SUMMARY:Zebulon Education Partners Lunch
DESCRIPTION:Representatives from educational organizations that serve Zebulon are invited to a networking lunch. The purpose is to build our relationships with each other discuss how we may collaborate in our work to serve Zebulon.
X-ALT-DESC;FMTTYPE=text/html:<span style="font-size:12.0pt\;">Representatives from educational organizations that serve Zebulon are invited to a networking lunch. The purpose is to build our relationships with each other discuss how we may collaborate in our work to serve Zebulon.</span>
LOCATION:
UID:e.1168.7546
SEQUENCE:3
DTSTAMP:20260422T164439Z
URL:https://business.zebulonchamber.org/events/details/zebulon-education-partners-lunch-7546
END:VEVENT

END:VCALENDAR
