BEGIN:VCALENDAR
VERSION:2.0
PRODID:-//ChamberMaster//Event Calendar 2.0//EN
METHOD:PUBLISH
X-PUBLISHED-TTL:P3D
REFRESH-INTERVAL:P3D
CALSCALE:GREGORIAN
BEGIN:VEVENT
DTSTART:20230614T160000Z
DTEND:20230614T173000Z
X-MICROSOFT-CDO-ALLDAYEVENT:FALSE
SUMMARY:Zebulon Education Partners Lunch
DESCRIPTION:Representatives from local and regional educational and youth service organizations that serve Zebulon are invited to a quarterly networking lunch. \n\n\n\nThe purpose of Zebulon Education Partners is to foster collaboration\, share knowledge and resources\, and promote the development of effective strategies to support the growth and success of education in our community. We aim to provide a platform to engage in meaningful dialogue and cultivate partnerships that enhance educational opportunities so that each young person realizes their full potential.
X-ALT-DESC;FMTTYPE=text/html:<span style="font-size:14px\;"><span style="font-family:arial\;">Representatives from local and regional educational and youth service organizations that serve Zebulon are invited to a quarterly networking lunch.&nbsp\;<br />\n<br />\n<strong>The purpose of Zebulon Education Partners is to foster collaboration\, share knowledge and resources\, and promote the development of effective strategies to support the growth and success of education in our community. We aim to provide a platform to engage in meaningful dialogue and cultivate partnerships that enhance educational opportunities so that each young person realizes their full potential.</strong></span></span><br />\n&nbsp\;
LOCATION:
UID:e.1168.7565
SEQUENCE:3
DTSTAMP:20260422T093336Z
URL:https://business.zebulonchamber.org/events/details/zebulon-education-partners-lunch-7565
END:VEVENT

END:VCALENDAR
