BEGIN:VCALENDAR
VERSION:2.0
PRODID:-//ChamberMaster//Event Calendar 2.0//EN
METHOD:PUBLISH
X-PUBLISHED-TTL:P3D
REFRESH-INTERVAL:P3D
CALSCALE:GREGORIAN
BEGIN:VEVENT
DTSTART:20240807T160000Z
DTEND:20240807T170000Z
X-MICROSOFT-CDO-ALLDAYEVENT:FALSE
SUMMARY:Zebulon Education Partners & Young Professionals Tools4Schools Tour
DESCRIPTION:Zebulon Education Partners are Invited to the Zebulon Chamber's Exclusive Tools4Schools Facility Tour and Tools4Schools Supply Drive!\n\n \n\nThe Young Professionals of the Zebulon Chamber are leading the charge for Back to School with Zebulon's Tools4Schools Drive Wake County's largest community-wide school supply drive.\n\n\n\nYou are invited to participate!\n\n\n\n1st\, Promote the Tools4Schools Drive: Help us spread the word within our schools and community. We need parents\, educators\, community leaders\, and businesses to engage and support our Zebulon Chamber Young Professionals as they team up to support our educators. More details are forthcoming\, so stay tuned!\n\n\n\n2nd\, Attend an Exclusive\, Zebulon Chamber Tour: You are invited to an exclusive tour of the new\, conveniently located Tools4Schools store. This is a unique opportunity to see firsthand how Zebulon can support our teachers and students with well-stocked shelves and warehouse at the Tools4Schools store. This store provides FREE classroom supplies for nearly 11\,000 teachers in the Wake County Public School System\, including those in Zebulon and East Wake County.\n\n\n\nEvent Details\n\nDate: Wednesday\, August 7th\n\nTime: 12:00 PM to 1:00 PM\n\nLocation: Tools4Schools\, 1816 Capital Blvd.\, Raleigh\, NC\n\n\n\nPlease register for the tour so that we have a headcount for the Tools4Schools staff.\n\n\n\nWhy Tools4Schools Matters\n\nResearch shows that Wake County teachers spend an average of $926 out of their own pockets each year on classroom supplies. Since its opening in January 2022\, Tools4Schools\, through the WakeEd Partnership\, has donated over $1 MILLION in new classroom supplies to WCPSS teachers. The impact has been profound:\n\n	Over 8\,000 teachers shopped for free supplies from each of Wake County Public Schools\, including Zebulon-based schools.\n	98% of teachers report a reduction in their out-of-pocket expenses due to Tools4Schools.\n\nTogether\, we can make a difference. We look forward to seeing you there!
X-ALT-DESC;FMTTYPE=text/html:<span style="font-size:16px\;"><span style="font-family:arial\;"><strong><span style="font-weight:normal\;"><span style="color:black\;">Zebulon Education Partners are Invited to the Zebulon Chamber&rsquo\;s Exclusive <a href="https://www.wakeed.org/tools4schools/">Tools4Schools</a> Facility Tour and <a href="https://www.wakeed.org/tools4schools/">Tools4Schools</a> Supply Drive!</span></span></strong><br />\n&nbsp\;<br />\n<span style="font-weight:normal\;"><span style="color:black\;">The Young Professionals of the Zebulon Chamber are leading the charge for Back to School with Zebulon&rsquo\;s <a href="https://www.wakeed.org/tools4schools/">Tools4Schools </a>Drive&mdash\;Wake County&rsquo\;s largest community-wide school supply drive.</span></span><br />\n<br />\n<span style="font-weight:normal\;"><span style="color:black\;">You are invited to participate!</span></span><br />\n<br />\n<span style="font-weight:normal\;"><span style="color:black\;">1<sup>st</sup>\, Promote the <a href="https://www.wakeed.org/tools4schools/">Tools4Schools</a> Drive: Help us spread the word within our schools and community. We need parents\, educators\, community leaders\, and businesses to engage and support our Zebulon Chamber Young Professionals as they team up to support our educators. More details are forthcoming\, so stay tuned!</span></span><br />\n<br />\n<span style="font-weight:normal\;"><span style="color:black\;">2<sup>nd</sup>\, Attend an Exclusive\, Zebulon Chamber Tour: You are invited to an exclusive tour of the new\, conveniently located <a href="https://www.wakeed.org/tools4schools/">Tools4Schools store</a>. This is a unique opportunity to see firsthand how Zebulon can support our teachers and students with well-stocked shelves and warehouse at the <a href="https://www.wakeed.org/tools4schools/">Tools4Schools</a> store. This store provides FREE classroom supplies for nearly 11\,000 teachers in the Wake County Public School System\, including those in Zebulon and East Wake County.</span></span><br />\n<br />\n<strong><span style="font-weight:normal\;"><span style="color:black\;">Event Details</span></span></strong><br />\n<span style="font-weight:normal\;"><span style="color:black\;">Date: Wednesday\, August 7th</span></span><br />\n<span style="font-weight:normal\;"><span style="color:black\;">Time: 12:00 PM to 1:00 PM</span></span><br />\n<span style="font-weight:normal\;"><span style="color:black\;">Location: <a href="https://www.wakeed.org/tools4schools/">Tools4Schools</a>\, 1816 Capital Blvd.\, Raleigh\, NC</span></span><br />\n<br />\n<span style="font-weight:normal\;"><span style="color:black\;">Please register for the tour so that we have a headcount for the <a href="https://www.wakeed.org/tools4schools/">Tools4Schools</a> staff.</span></span><br />\n<br />\n<span style="font-weight:normal\;"><span style="color:black\;">Why <a href="https://www.wakeed.org/tools4schools/">Tools4Schools</a> Matters</span></span><br />\n<span style="font-weight:normal\;"><span style="color:black\;">Research shows that Wake County teachers spend an average of $926 out of their own pockets each year on classroom supplies. Since its opening in January 2022\, <a href="https://www.wakeed.org/tools4schools/">Tools4Schools</a>\, through the WakeEd Partnership\, has donated over $1 MILLION in new classroom supplies to WCPSS teachers. The impact has been profound:</span></span></span></span>\n<ul>\n	<li><span style="font-size:16px\;"><span style="font-family:arial\;"><span style="font-weight:normal\;"><span style="color:black\;">Over 8\,000 teachers shopped for free supplies from each of Wake County Public Schools\, including Zebulon-based schools.</span></span></span></span></li>\n	<li><span style="font-size:16px\;"><span style="font-family:arial\;"><span style="font-weight:normal\;"><span style="color:black\;">98% of teachers report a reduction in their out-of-pocket expenses due to <a href="https://www.wakeed.org/tools4schools/">Tools4Schools</a>.</span></span></span></span></li>\n</ul>\n<span style="font-size:16px\;"><span style="font-family:arial\;"><span style="font-weight:normal\;"><span style="color:black\;">Together\, we can make a difference. We look forward to seeing you there!</span></span></span></span>
LOCATION:
UID:e.1168.7919
SEQUENCE:3
DTSTAMP:20260421T155301Z
URL:https://business.zebulonchamber.org/events/details/zebulon-education-partners-young-professionals-tools4schools-tour-7919
END:VEVENT

END:VCALENDAR
