BEGIN:VCALENDAR
VERSION:2.0
PRODID:-//ChamberMaster//Event Calendar 2.0//EN
METHOD:PUBLISH
X-PUBLISHED-TTL:P3D
REFRESH-INTERVAL:P3D
CALSCALE:GREGORIAN
BEGIN:VEVENT
DTSTART:20230601T230000Z
DTEND:20230602T003000Z
X-MICROSOFT-CDO-ALLDAYEVENT:FALSE
SUMMARY:Zebulon Lion's Club
DESCRIPTION:Zebulon Lion's Club seeks to honor the Lion's mission: "We Serve."\n\n\n\nWe are committed to serve the vision and hearing impaired with equal commitment to support the eradication of diabetes -- both locally and internationally.\n\n\n\nDinner meetings held the 1st and 3rd Thursdays of the month.
X-ALT-DESC;FMTTYPE=text/html:Zebulon Lion&#39\;s Club seeks to honor the Lion&#39\;s mission: &quot\;We Serve.&quot\;<br />\n<br />\nWe are committed to serve the vision and hearing impaired with equal commitment to support the eradication of diabetes -- both locally and internationally.<br />\n<br />\nDinner meetings held the 1st and 3rd Thursdays of the month.
LOCATION:
UID:e.1168.7213
SEQUENCE:3
DTSTAMP:20260421T094752Z
URL:https://business.zebulonchamber.org/events/details/zebulon-lion-s-club-06-01-2023-7213
END:VEVENT

END:VCALENDAR
