BEGIN:VCALENDAR
VERSION:2.0
PRODID:-//ChamberMaster//Event Calendar 2.0//EN
METHOD:PUBLISH
X-PUBLISHED-TTL:P3D
REFRESH-INTERVAL:P3D
CALSCALE:GREGORIAN
BEGIN:VEVENT
DTSTART:20231005T230000Z
DTEND:20231006T000000Z
X-MICROSOFT-CDO-ALLDAYEVENT:FALSE
SUMMARY:Zebulon Lions Club
DESCRIPTION:The Zebulon Lions Club meets the first and third Thursday of each month at 7:00 p.m.  Dinner is served and a program follows.  The Lions are committed to their motto "We Serve!"  We serve the local and global community in a variety of ways.  Visitors and interested persons are invited to join/attend.
X-ALT-DESC;FMTTYPE=text/html:The Zebulon Lions Club meets the first and third Thursday of each month at 7:00 p.m.&nbsp\; Dinner is served and a program follows.&nbsp\; The Lions are committed to their motto &quot\;We Serve!&quot\;&nbsp\; We serve the local and global community in a variety of ways.&nbsp\; Visitors and interested persons are invited to join/attend.&nbsp\;
LOCATION:The Zebulon Lions Club meets the first and third Thursday of each month at 7:00 p.m. Dinner is served and a program follows. The Lions are committed to their motto "We Serve!" We serve the local and global community in a variety of ways. Visitors and interested persons are invited to join/attend.
UID:e.1168.7649
SEQUENCE:3
DTSTAMP:20260422T035622Z
URL:https://business.zebulonchamber.org/events/details/zebulon-lions-club-10-05-2023-7649
END:VEVENT

END:VCALENDAR
