BEGIN:VCALENDAR
VERSION:2.0
PRODID:-//ChamberMaster//Event Calendar 2.0//EN
METHOD:PUBLISH
X-PUBLISHED-TTL:P3D
REFRESH-INTERVAL:P3D
CALSCALE:GREGORIAN
BEGIN:VEVENT
DTSTART:20230907T230000Z
DTEND:20230908T000000Z
X-MICROSOFT-CDO-ALLDAYEVENT:FALSE
SUMMARY:Zebulon Lions Club
DESCRIPTION:Zebulon Lions Club meets on September 7 at 7:00 p.m. and welcomes Roddy MacLellan\, artisan and master maker of bagpipes\, as our program. The public is invited. Contact Jeff Price (919) 696-6679 by September 4.\n\n\n\nThe Zebulon Lions Club meets the first and third Thursday of each month. We are committed to the Lions motto of "We Serve" and we welcome men and women who share a commitment to serve their community to join us. Visit us on Facebook at www.Facebook.com/ZtownLions/ and visit the Lions website at www.lionsclubs.org and our website at www.e-clubhouse.org.sites//zebulonnc/index.php.
X-ALT-DESC;FMTTYPE=text/html:Zebulon Lions Club meets on September 7 at 7:00 p.m. and welcomes Roddy MacLellan\, artisan and master maker of bagpipes\, as our program. The public is invited. Contact Jeff Price (919) 696-6679 by September 4.<br />\n<br />\nThe Zebulon Lions Club meets the first and third Thursday of each month. We are committed to the Lions motto of &quot\;We Serve&quot\; and we welcome men and women who share a commitment to serve their community to join us. Visit us on Facebook at www.Facebook.com/ZtownLions/ and visit the Lions website at www.lionsclubs.org and our website at www.e-clubhouse.org.sites//zebulonnc/index.php.&nbsp\;
LOCATION:118 East Lee Street Zebulon NC 27597
UID:e.1168.7632
SEQUENCE:3
DTSTAMP:20260422T052614Z
URL:https://business.zebulonchamber.org/events/details/zebulon-lions-club-11-02-2023-7632
END:VEVENT

END:VCALENDAR
