BEGIN:VCALENDAR
VERSION:2.0
PRODID:-//ChamberMaster//Event Calendar 2.0//EN
METHOD:PUBLISH
X-PUBLISHED-TTL:P3D
REFRESH-INTERVAL:P3D
CALSCALE:GREGORIAN
BEGIN:VEVENT
DTSTART:20231222T000000Z
DTEND:20231222T010000Z
X-MICROSOFT-CDO-ALLDAYEVENT:FALSE
SUMMARY:Zebulon Lions Club
DESCRIPTION:The Zebulon Lions Club meets the first and third Thursday of each month. We are committed to the Lions motto of "We Serve" and we welcome men and women who share a commitment to serve their community to join us. Visit us on Facebook at www.Facebook.com/ZtownLions/ and visit the Lions website at www.lionsclubs.org and our website at www.e-clubhouse.org.sites//zebulonnc/index.php.
X-ALT-DESC;FMTTYPE=text/html:The Zebulon Lions Club meets the first and third Thursday of each month. We are committed to the Lions motto of &quot\;We Serve&quot\; and we welcome men and women who share a commitment to serve their community to join us. Visit us on Facebook at www.Facebook.com/ZtownLions/ and visit the Lions website at www.lionsclubs.org and our website at www.e-clubhouse.org.sites//zebulonnc/index.php.&nbsp\;
LOCATION:118 East Lee Street Zebulon NC 27597
UID:e.1168.7615
SEQUENCE:3
DTSTAMP:20260421T162027Z
URL:https://business.zebulonchamber.org/events/details/zebulon-lions-club-12-21-2023-7615
END:VEVENT

END:VCALENDAR
