BEGIN:VCALENDAR
VERSION:2.0
PRODID:-//ChamberMaster//Event Calendar 2.0//EN
METHOD:PUBLISH
X-PUBLISHED-TTL:P3D
REFRESH-INTERVAL:P3D
CALSCALE:GREGORIAN
BEGIN:VEVENT
DTSTART:20231110T220000Z
DTEND:20231111T000000Z
X-MICROSOFT-CDO-ALLDAYEVENT:FALSE
SUMMARY:Zebulon Lions Club Spaghetti Supper Fundraiser
DESCRIPTION:Zebulon Lions Club Spaghetti Supper Fundraiser - This annual event is eagerly anticipated by anyone who has purchased a spaghetti plate from the Lions in the past. Italy sends it top chefs to discover the secret of the Zebulon Lions' spaghetti sauce! :)  Each plate comes with lots of spaghetti\, sauce\, salad\, bread and dessert. Take out only. Cost is just $12 per plate. Zebulon Lions Club Building - 118 East Lee Street in Zebulon.
X-ALT-DESC;FMTTYPE=text/html:Zebulon Lions Club Spaghetti Supper Fundraiser - This annual event is eagerly anticipated by anyone who has purchased a spaghetti plate from the Lions in the past. Italy sends it top chefs to discover the secret of the Zebulon Lions&#39\; spaghetti sauce! :)&nbsp\; Each plate comes with lots of spaghetti\, sauce\, salad\, bread and dessert. Take out only. Cost is just $12 per plate. Zebulon Lions Club Building - 118 East Lee Street in Zebulon.
LOCATION:Zebulon Lions Club Building - 118 East Lee Street in Zebulon
UID:e.1168.7650
SEQUENCE:3
DTSTAMP:20260421T150536Z
URL:https://business.zebulonchamber.org/events/details/zebulon-lions-club-spaghetti-supper-fundraiser-7650
END:VEVENT

END:VCALENDAR
