BEGIN:VCALENDAR
VERSION:2.0
PRODID:-//ChamberMaster//Event Calendar 2.0//EN
METHOD:PUBLISH
X-PUBLISHED-TTL:P3D
REFRESH-INTERVAL:P3D
CALSCALE:GREGORIAN
BEGIN:VEVENT
DTSTART;VALUE=DATE:20230828
DTEND;VALUE=DATE:20230923
TRANSP:TRANSPARENT
X-MICROSOFT-CDO-ALLDAYEVENT:TRUE
SUMMARY:Zebulon Parks and Recreation Coat Drive Aug 28-Sept 22
DESCRIPTION:Community Outreach Coat Drive Collection\n\nCoat Collection Dates:\n\nMonday\, August 28th to Friday\, September 22nd\n\nCoat Donation & Drop Off Locations:\n\nThe Creative Cup-113 N Arendell Avenue\n\nZebulon Community Center-301 S Arendell Avenue\n\nZebulon Police Department-1001 N Arendell Avenue\n\n\n\nWe are collecting coats for children of all ages\, to include those in high school\, so larger sizes are welcome. You can donate either new or gently used coats that are still in good condition. Collection boxes are out at The Creative Cup\, Zebulon Police Department and Zebulon Community Center during normal business hours.\n\n\n\nCoats will be distributed at the Gill Street Community (600 N Privette St) Cookout and Coat Drive Distribution Event on Thursday\, September 28th from 5:00-6:30PM.
X-ALT-DESC;FMTTYPE=text/html:<span style="font-family:arial\; font-size:12px">Community Outreach Coat Drive Collection</span><br />\n<span style="font-family:arial\; font-size:12px">Coat Collection Dates:</span><br />\n<span style="font-family:arial\; font-size:12px">Monday\, August 28th to Friday\, September 22nd</span><br />\n<span style="font-family:arial\; font-size:12px">Coat Donation &amp\; Drop Off Locations:</span><br />\n<span style="font-family:arial\; font-size:12px">The Creative Cup-113 N Arendell Avenue</span><br />\n<span style="font-family:arial\; font-size:12px">Zebulon Community Center-301 S Arendell Avenue</span><br />\n<span style="font-family:arial\; font-size:12px">Zebulon Police Department-1001 N Arendell Avenue</span><br />\n<br />\n<span style="font-family:arial\; font-size:12px">We are collecting coats for children of all ages\, to include those in high school\, so larger sizes are welcome. You can donate either new or gently used coats that are still in good condition. Collection boxes are out at The Creative Cup\, Zebulon Police Department and Zebulon Community Center during normal business hours.</span><br />\n<br />\n<span style="font-family:arial\; font-size:12px">Coats will be distributed at the Gill Street Community (600 N Privette St) Cookout and Coat Drive Distribution Event on Thursday\, September 28th from 5:00-6:30PM.</span>
LOCATION:Coat Donation & Drop Off Locations (during normal operating hours): The Creative Cup-113 N Arendell Avenue Zebulon Community Center-301 S Arendell Avenue Zebulon Police Department-1001 N Arendell Avenue
UID:e.1168.7582
SEQUENCE:3
DTSTAMP:20260422T052836Z
URL:https://business.zebulonchamber.org/events/details/zebulon-parks-and-recreation-coat-drive-aug-28-sept-22-08-28-2023-7582
END:VEVENT

END:VCALENDAR
