BEGIN:VCALENDAR
VERSION:2.0
PRODID:-//ChamberMaster//Event Calendar 2.0//EN
METHOD:PUBLISH
X-PUBLISHED-TTL:P3D
REFRESH-INTERVAL:P3D
CALSCALE:GREGORIAN
BEGIN:VEVENT
DTSTART:20240515T223000Z
DTEND:20240516T010000Z
X-MICROSOFT-CDO-ALLDAYEVENT:FALSE
SUMMARY:Zebulon Shrine Club Meetings
DESCRIPTION:We're extending a warm welcome to you\, your ladies and families!  Are you a fellow Mason looking for some fun? are you a fellow Shriner?  We at the Zebulon Shrine Club\, would like to invite you and your family (kids welcomed) to visit us during a stated meeting. We meet monthly\, on the third Wednesday\, except for June and July.  Currently we are  having a social time  and meal before the meeting starting at 6:30 and the stated meeting at 7:00pm. Please note\, should you decide to join the ZSC\, your first year dues are waived. \n\n\n\nHere at the ZSC\, we strive to organize several fish fry fundraising events per year to help financially support our local Shriners Children's Hospital in Greenville\, SC. We are looking for new members with great ideas to bring the fun back into the Shrine! \n\nPlease\, don't hesitate to contact Kyle Carlson if you have any questions or would like to RSVP for a monthly meeting at: (919) 745-9060.
X-ALT-DESC;FMTTYPE=text/html:<p><span style="background-color:transparent\; color:rgb(0\, 0\, 0)\; font-family:arial\,sans-serif\; font-size:11pt">We&rsquo\;re extending a warm welcome to you\, your ladies and families!&nbsp\; Are you a fellow Mason looking for some fun? are you a fellow Shriner?&nbsp\; We at the Zebulon Shrine Club\, would like to invite you and your family (kids welcomed) to visit us during a stated meeting. We meet monthly\, on the third Wednesday\, except for June and July.&nbsp\; Currently we are&nbsp\; having a social time&nbsp\; and meal before the meeting starting at 6:30 and the stated meeting at 7:00pm. Please note\, should you decide to join the ZSC\, your first year dues are waived.&nbsp\;<br />\n<br />\nHere at the ZSC\, we strive to organize several fish fry fundraising events per year to help financially support our local Shriners Children&#39\;s Hospital in Greenville\, SC. We are looking for new members with great ideas to bring the fun back into the Shrine!&nbsp\;</span></p>\n\n<p><span style="background-color:transparent\; color:rgb(0\, 0\, 0)\; font-family:arial\,sans-serif\; font-size:11pt">Please\, don&#39\;t hesitate to contact Kyle Carlson if you have any questions or would like to RSVP for a monthly meeting at:&nbsp\;(919) 745-9060.&nbsp\;</span></p>\n\n<div>&nbsp\;</div>\n
LOCATION:Zebulon Shrine Club 1201 West Gannon Ave Zebulon\, NC
UID:e.1168.7857
SEQUENCE:3
DTSTAMP:20260421T185136Z
URL:https://business.zebulonchamber.org/events/details/zebulon-shrine-club-meetings-05-15-2024-7857
END:VEVENT

END:VCALENDAR
