BEGIN:VCALENDAR
VERSION:2.0
PRODID:-//ChamberMaster//Event Calendar 2.0//EN
METHOD:PUBLISH
X-PUBLISHED-TTL:P3D
REFRESH-INTERVAL:P3D
CALSCALE:GREGORIAN
BEGIN:VEVENT
DTSTART:20240402T230000Z
DTEND:20240403T003000Z
X-MICROSOFT-CDO-ALLDAYEVENT:FALSE
SUMMARY:Zebulon Woman's Club
DESCRIPTION:Zebulon Woman's Club -- "Living the Volunteer Spirit!"\n\n\n\nMonthly meetings are held the 1st Tuesday of each month from September through May. Those interested in serving the community of Zebulon are encouraged to attend.\n\n\n\n Club Contacts: Jenny Privette (919) 280-4198 and Patricia Roberson (919) 606-3402\n\n\n\nCall or email for more information.
X-ALT-DESC;FMTTYPE=text/html:Zebulon Woman&#39\;s Club -- &quot\;Living the Volunteer Spirit!&quot\;<br />\n<br />\nMonthly meetings are held the 1st Tuesday of each month from September through May. Those interested in serving the community of Zebulon are encouraged to attend.<br />\n<br />\n&nbsp\;Club Contacts: Jenny Privette (919) 280-4198 and Patricia Roberson (919) 606-3402<br />\n<br />\nCall or email for more information.
LOCATION:
UID:e.1168.7207
SEQUENCE:3
DTSTAMP:20260421T202658Z
URL:https://business.zebulonchamber.org/events/details/zebulon-woman-s-club-04-02-2024-7207
END:VEVENT

END:VCALENDAR
