BEGIN:VCALENDAR
VERSION:2.0
PRODID:-//ChamberMaster//Event Calendar 2.0//EN
METHOD:PUBLISH
X-PUBLISHED-TTL:P3D
REFRESH-INTERVAL:P3D
CALSCALE:GREGORIAN
BEGIN:VEVENT
DTSTART:20220915T120000Z
DTEND:20220915T140000Z
X-MICROSOFT-CDO-ALLDAYEVENT:FALSE
SUMMARY:ZebulonNext 2022 | Workforce Development Solutions
DESCRIPTION:Communities in our region are experiencing incredible growth. Developing and sustaining a healthy talent pipeline is critical for remaining competitive in today's workforce environment.\n\n \n\nWhere do we find the skilled workforce we need? How do we invest in local talent to grow tomorrow's workforce? What resources are available for organizations as they expand? Where do emerging entrepreneurs source the talent they need to get launched?\n\n \n\nZebulonNext: Workforce Development Solutions will connect you with resources for recruiting talent\, training existing or new talent\, and attracting the right workforce for your business. Hear from regional leaders about innovations within their organizations. Learn about resources for training and retooling your own talent. Connect with businesses that can help you leverage sourcing options for a skilled workforce.
X-ALT-DESC;FMTTYPE=text/html:<span style="font-size:14px\;"><span style="font-family:tahoma\;">Communities in our region are experiencing incredible growth. Developing and sustaining a healthy talent pipeline is critical for remaining competitive in today&#39\;s workforce environment.<br />\n&nbsp\;<br />\nWhere do we find the skilled workforce we need? How do we invest in local talent to grow tomorrow&#39\;s workforce? What resources are available for organizations as they expand? Where do emerging entrepreneurs source the talent they need to get launched?<br />\n&nbsp\;<br />\n<strong><em>ZebulonNext:</em></strong><em> Workforce Development Solutions</em>&nbsp\;will connect you with resources for recruiting talent\, training existing or new talent\, and attracting the right workforce for your business. Hear from regional leaders about innovations within their organizations. Learn about resources for training and retooling your own talent. Connect with businesses that can help you leverage sourcing options for a skilled workforce.</span></span>
LOCATION:Vinventions 400 Vintage Park Dr Zebulon\, NC 27597
UID:e.1168.6907
SEQUENCE:3
DTSTAMP:20260420T215103Z
URL:https://business.zebulonchamber.org/events/details/zebulonnext-2022-workforce-development-solutions-6907
END:VEVENT

END:VCALENDAR
